BEGIN:VCALENDAR
VERSION:2.0
PRODID:-//MSMT - ECPv6.15.20//NONSGML v1.0//EN
CALSCALE:GREGORIAN
METHOD:PUBLISH
X-WR-CALNAME:MSMT
X-ORIGINAL-URL:https://msmt.org
X-WR-CALDESC:Events for MSMT
REFRESH-INTERVAL;VALUE=DURATION:PT1H
X-Robots-Tag:noindex
X-PUBLISHED-TTL:PT1H
BEGIN:VTIMEZONE
TZID:America/New_York
BEGIN:DAYLIGHT
TZOFFSETFROM:-0500
TZOFFSETTO:-0400
TZNAME:EDT
DTSTART:20250309T070000
END:DAYLIGHT
BEGIN:STANDARD
TZOFFSETFROM:-0400
TZOFFSETTO:-0500
TZNAME:EST
DTSTART:20251102T060000
END:STANDARD
BEGIN:DAYLIGHT
TZOFFSETFROM:-0500
TZOFFSETTO:-0400
TZNAME:EDT
DTSTART:20260308T070000
END:DAYLIGHT
BEGIN:STANDARD
TZOFFSETFROM:-0400
TZOFFSETTO:-0500
TZNAME:EST
DTSTART:20261101T060000
END:STANDARD
BEGIN:DAYLIGHT
TZOFFSETFROM:-0500
TZOFFSETTO:-0400
TZNAME:EDT
DTSTART:20270314T070000
END:DAYLIGHT
BEGIN:STANDARD
TZOFFSETFROM:-0400
TZOFFSETTO:-0500
TZNAME:EST
DTSTART:20271107T060000
END:STANDARD
END:VTIMEZONE
BEGIN:VEVENT
DTSTART;TZID=America/New_York:20260726T193000
DTEND;TZID=America/New_York:20260726T213000
DTSTAMP:20260419T092520
CREATED:20250919T145345Z
LAST-MODIFIED:20250919T145345Z
UID:10000733-1785094200-1785101400@msmt.org
SUMMARY:Billy Joel Tribute Concert
DESCRIPTION:Raise a glass to the Piano Man himself in Captain Jack and The Strangers: The Music of Billy Joel. From New York State of Mind to Uptown Girl\, It’s Still Rock and Roll to Me to Piano Man\, this electrifying concert captures the energy and genius of one of America’s most iconic singer-songwriters. With soaring vocals\, masterful piano\, and a rock-solid band\, this show is a must-see for both longtime and new Billy Joel fans.
URL:https://msmt.org/event/billy/2026-07-26/
CATEGORIES:Show
ATTACH;FMTTYPE=image/jpeg:https://msmt.org/wp-content/uploads/billy-Joel-HEADER.jpg
END:VEVENT
BEGIN:VEVENT
DTSTART;TZID=America/New_York:20260727T140000
DTEND;TZID=America/New_York:20260727T160000
DTSTAMP:20260419T092520
CREATED:20250919T145345Z
LAST-MODIFIED:20250919T145345Z
UID:10000734-1785160800-1785168000@msmt.org
SUMMARY:Billy Joel Tribute Concert
DESCRIPTION:Raise a glass to the Piano Man himself in Captain Jack and The Strangers: The Music of Billy Joel. From New York State of Mind to Uptown Girl\, It’s Still Rock and Roll to Me to Piano Man\, this electrifying concert captures the energy and genius of one of America’s most iconic singer-songwriters. With soaring vocals\, masterful piano\, and a rock-solid band\, this show is a must-see for both longtime and new Billy Joel fans.
URL:https://msmt.org/event/billy/2026-07-27/1/
CATEGORIES:Show
ATTACH;FMTTYPE=image/jpeg:https://msmt.org/wp-content/uploads/billy-Joel-HEADER.jpg
END:VEVENT
BEGIN:VEVENT
DTSTART;TZID=America/New_York:20260727T193000
DTEND;TZID=America/New_York:20260727T213000
DTSTAMP:20260419T092520
CREATED:20250919T145345Z
LAST-MODIFIED:20250919T145345Z
UID:10000735-1785180600-1785187800@msmt.org
SUMMARY:Billy Joel Tribute Concert
DESCRIPTION:Raise a glass to the Piano Man himself in Captain Jack and The Strangers: The Music of Billy Joel. From New York State of Mind to Uptown Girl\, It’s Still Rock and Roll to Me to Piano Man\, this electrifying concert captures the energy and genius of one of America’s most iconic singer-songwriters. With soaring vocals\, masterful piano\, and a rock-solid band\, this show is a must-see for both longtime and new Billy Joel fans.
URL:https://msmt.org/event/billy/2026-07-27/2/
CATEGORIES:Show
ATTACH;FMTTYPE=image/jpeg:https://msmt.org/wp-content/uploads/billy-Joel-HEADER.jpg
END:VEVENT
END:VCALENDAR